Workbook

Sheet octubre
A1: No. | B1: CENTRAL | D1: LECTURA GENERACION | G1: TOTAL | H1: CONSUMO | J1: TOTAL | K1: POTENCIA PROMEDIO
C2: HORAS | F2: GENERADO | G2: BRUTO POR | H2: ESTACION | I2: GENERADO | J2: NETO POR
C3: OPERACION | D3: ANTERIOR | E3: PRESENTE | F3: BRUTO / UNIDAD | G3: CENTRAL | H3: TOTAL | I3: NETO / UNIDAD | J3: CENTRAL
F4: (KWH) | G4: (KWH) | H4: (KWH) | I4: (KWH) | J4: (KWH) | K4: (MW)
A5: SECTOR HIDRAULICO NORTE | M5: Total de Horas
A6: 1 | B6: TAVERA - I | C6: 206.95 | D6: 94848093 | E6: 104212169 | F6: 9364076 | G6: 15276013 | H6: 38093 | I6: 9325983 | J6: 15237920 | K6: 45.25 | M6: =SUM(C6:C15) -> 3906.04
B7: TAVERA - I I | C7: 139.55 | D7: 106001430 | E7: 111913367 | F7: 5911937 | H7: 0 | I7: 5911937 | K7: 42.36 | M7: =SUM(C18:C29) -> 3423.11
A8: 2 | B8: ANGOSTURA | C8: 739.27 | D8: 240129600 | E8: 245198500 | F8: 5068900 | G8: 5068900 | H8: 27423 | I8: 5041477 | J8: 5041477 | K8: 6.86 | M8: =SUM(C32:C40) -> 1261.38
A9: 3 | B9: MONCION - I | C9: 422.22 | D9: 162002886 | E9: 171501097 | F9: 9498211 | G9: 18773100 | H9: 77802 | I9: 9420409 | J9: 18695298 | K9: 22.5 | M9: =SUM(C43:C53) -> 4545.13
B10: MONCION - II | C10: 414.36 | D10: 161859753 | E10: 171134642 | F10: 9274889 | H10: 0 | I10: 9274889 | K10: 22.38 | M10: =SUM(M6:M9) -> 13135.66
A11: 4 | B11: C. E. MONCION - I | C11: 744 | F11: 696615 | G11: 1393230 | H11: 11420 | I11: 685195 | J11: 1381810 | K11: 0.94
B12: C. E. MONCION - I I | C12: 744 | F12: 696615 | I12: 696615 | K12: 0.94
A13: 5 | B13: BAIGUAQUE - I | C13: 247.58 | D13: 3210497 | E13: 3244175 | F13: 33678 | G13: 65835 | H13: 1477 | I13: 32201 | J13: 64358 | K13: 0.14
B14: BAIGUAQUE - I I | C14: 248.11 | D14: 3074379 | E14: 3106536 | F14: 32157 | I14: 32157 | K14: 0.13
A15: 6 | B15: BRAZO DERECHO | C15: 0 | D15: 71541559 | E15: 71541559 | F15: 0 | G15: 0 | H15: 14122 | I15: 0 | J15: 0 | K15: 0
A16: SUB-TOTAL SECTOR NORTE | F16: 40577078 | G16: 40577078 | H16: 170337 | I16: 40420863 | J16: 40420863 | K16: 142 | M16: =SUM(F6:F15) -> 40577078
A17: SECTOR HIDRAULICO CENTRO
A18: 7 | B18: RINCON | C18: 110.69 | D18: 29480000 | E18: 30430000 | F18: 950000 | G18: 950000 | H18: 11472 | I18: 938528 | J18: 938528 | K18: 8.58
A19: 8 | B19: HATILLO - I | C19: 490.88 | D19: 1028146700 | E19: 1031371400 | F19: 3224700 | G19: 4170753 | H19: 20839 | I19: 3203861 | J19: 4149914 | K19: 6.57
B20: HATILLO - I I | C20: 253.07 | D20: 0 | E20: 0 | F20: 946053 | H20: 0 | I20: 946053 | K20: 0
A21: 9 | B21: JIMENOA | C21: 688.48 | D21: 869538273 | E21: 874247579 | F21: 4709306 | G21: 4709306 | H21: 6626 | I21: 4702680 | J21: 4702680 | K21: 6.84
A22: 10 | B22: RIO BLANCO - I | C22: 24 | D22: 891343000 | E22: 894202000 | F22: 2859000 | G22: 9484500 | H22: 56570 | I22: 2802430 | J22: 9427930 | K22: 0
B23: RIO BLANCO - I I | C23: 646.78 | D23: 816653500 | E23: 823279000 | F23: 6625500 | I23: 6625500 | K23: 10.24
A24: 11 | B24: EL SALTO DE CONSTANZA | C24: 0 | D24: 15987502 | E24: 15987502 | F24: 0 | G24: 0 | H24: 1231 | I24: 0 | J24: 0 | K24: 0
A25: 12 | B25: ANIANA VARGAS I | C25: 507.83 | F25: 60818 | G25: 76710 | H25: 2720 | I25: 60818 | J25: 73990 | K25: 0.12
B26: ANIANA VARGAS I I | C26: 183.76 | F26: 15892 | H26: 0 | I26: 13172 | K26: 0
A27: 13 | B27: ROSA JULIA DE LA CRUZ | C27: 0 | F27: 0 | G27: 0 | H27: 2443 | I27: 0 | J27: 0 | K27: 0
A28: 14 | B28: PINALITO I | C28: 275.45 | D28: 32417400 | E28: 38988100 | F28: 6570700 | G28: 12130700 | H28: 67319 | I28: 6503381 | J28: 12063381 | K28: 23.85
B29: PINALITO II | C29: 242.17 | D29: 71716100 | E29: 77276100 | F29: 5560000 | H29: 0 | I29: 5560000 | K29: 22.96
F30: 31521969 | G30: 31521969 | H30: 169220 | I30: 31356423 | J30: 31356423 | K30: 79
A31: SECTOR HIDRAULICO NIZAO
A32: 15 | B32: VALDESIA - I | C32: 161.52 | D32: 4126115680 | E32: 4129734456 | F32: 3618776 | G32: 5759576 | H32: 15472 | I32: 3603304 | J32: 5744104 | K32: 22.4
B33: VALDESIA - I I | C33: 80.79 | D33: 887485200 | E33: 889626000 | F33: 2140800 | H33: 0 | I33: 2140800 | K33: 26.5
A34: 16 | B34: JIGUEY - I | C34: 143.1 | D34: 3256166573 | E34: 3261325765 | F34: 5159192 | G34: 9419629 | H34: 0 | I34: 5159192 | J34: 9269639 | K34: 36.05
B35: JIGUEY - I I | C35: 117.77 | D35: 2847265532 | E35: 2851525969 | F35: 4260437 | H35: 149990 | I35: 4110447 | K35: 36.18
A36: 17 | B36: AGUACATE - I | C36: 349.09 | D36: 1071110976 | E36: 1079917568 | F36: 8806592 | G36: 18784064 | H36: 110013 | I36: 8696579 | J36: 18674051 | K36: 25.23
B37: AGUACATE - I I | C37: 398.13 | D37: 1338127232 | E37: 1348104704 | F37: 9977472 | H37: 0 | I37: 9977472 | K37: 25.06
A38: 18 | B38: NIZAO NAJAYO | C38: 0 | F38: 0 | G38: 0 | H38: 223 | I38: 0 | J38: 0 | K38: 0
A39: 19 | B39: LOS ANONES | C39: 0 | F39: 0 | G39: 0 | H39: 558 | I39: 0 | J39: 0 | K39: 0
A40: 20 | B40: LAS BARIAS | C40: 10.98 | D40: 51733930 | E40: 51737797 | F40: 3867 | G40: 3867 | H40: 3185 | I40: 682 | J40: 682 | K40: 0.35
...

Sheet noviembre
A1: No. | B1: CENTRAL | D1: LECTURA GENERACION | G1: TOTAL | H1: CONSUMO | J1: TOTAL | K1: POTENCIA PROMEDIO
C2: HORAS | F2: GENERADO | G2: BRUTO POR | H2: ESTACION | I2: GENERADO | J2: NETO POR
C3: OPERACION | D3: ANTERIOR | E3: PRESENTE | F3: BRUTO / UNIDAD | G3: CENTRAL | H3: TOTAL | I3: NETO / UNIDAD | J3: CENTRAL
F4: (KWH) | G4: (KWH) | H4: (KWH) | I4: (KWH) | J4: (KWH) | K4: (MW)
A5: SECTOR HIDRAULICO NORTE | M5: Total de Horas
A6: 1 | B6: TAVERA - I | C6: 155.03 | D6: 104212169 | E6: 111418747 | F6: 7206578 | G6: 13519275 | H6: 33462 | I6: 7173116 | J6: 13485813 | K6: 46.49 | M6: =SUM(C6:C15) -> 3746.9
B7: TAVERA - I I | C7: 139.12 | D7: 111913367 | E7: 118226064 | F7: 6312697 | H7: 0 | I7: 6312697 | K7: 45.38 | M7: =SUM(C18:C29) -> 3136.44
A8: 2 | B8: ANGOSTURA | C8: 702.9 | D8: 245198500 | E8: 249816300 | F8: 4617800 | G8: 4617800 | H8: 25220 | I8: 4592580 | J8: 4592580 | K8: 6.57 | M8: =SUM(C32:C40) -> 1966.76
A9: 3 | B9: MONCION - I | C9: 410.04 | D9: 171501097 | E9: 180954887 | F9: 9453790 | G9: 18622478 | H9: 74645 | I9: 9379145 | J9: 18547833 | K9: 23.06 | M9: =SUM(C43:C53) -> 4278.24
B10: MONCION - II | C10: 401.27 | D10: 171134642 | E10: 180303330 | F10: 9168688 | H10: 0 | I10: 9168688 | K10: 22.85 | M10: =SUM(M6:M9) -> 13128.34
A11: 4 | B11: C. E. MONCION - I | C11: 708.51 | F11: 735474 | G11: 1466320 | H11: 11270 | I11: 724204 | J11: 1455050 | K11: 1.04
B12: C. E. MONCION - I I | C12: 704.15 | F12: 730846 | I12: 730846 | K12: 1.04
A13: 5 | B13: BAIGUAQUE - I | C13: 287.18 | D13: 3244175 | E13: 3285738 | F13: 41563 | G13: 67991 | H13: 2113 | I13: 39450 | J13: 65878 | K13: 0.14
B14: BAIGUAQUE - I I | C14: 238.7 | D14: 3106536 | E14: 3132964 | F14: 26428 | I14: 26428 | K14: 0.11
A15: 6 | B15: BRAZO DERECHO | C15: 0 | D15: 71541559 | E15: 71541559 | F15: 0 | G15: 0 | H15: 9854 | I15: 0 | J15: 0 | K15: 0
A16: SUB-TOTAL SECTOR NORTE | F16: 38293864 | G16: 38293864 | H16: 156564 | I16: 38147154 | J16: 38147154 | K16: 147
A17: SECTOR HIDRAULICO CENTRO | N17: =SUM(F6:F15) -> 38293864
A18: 7 | B18: RINCON | C18: 169.49 | D18: 30430000 | E18: 31930000 | F18: 1500000 | G18: 1500000 | H18: 12368 | I18: 1487632 | J18: 1487632 | K18: 8.85
A19: 8 | B19: HATILLO - I | C19: 364.02 | D19: 1031371400 | E19: 1033769600 | F19: 2398200 | G19: 4325700 | H19: 28697 | I19: 2369503 | J19: 4297003 | K19: 6.59
B20: HATILLO - I I | C20: 531.44 | D20: 0 | E20: 0 | F20: 1927500 | H20: 0 | I20: 1927500 | K20: 0
A21: 9 | B21: JIMENOA | C21: 693.42 | D21: 874247579 | E21: 877682102 | F21: 3434523 | G21: 3434523 | H21: 6687 | I21: 3427836 | J21: 3427836 | K21: 4.95
A22: 10 | B22: RIO BLANCO - I | C22: 24 | D22: 894202000 | E22: 900028000 | F22: 5826000 | G22: 9293000 | H22: 55755 | I22: 5770245 | J22: 9237245 | K22: 0
B23: RIO BLANCO - I I | C23: 409.15 | D23: 823279000 | E23: 826746000 | F23: 3467000 | I23: 3467000 | K23: 8.47
A24: 11 | B24: EL SALTO DE CONSTANZA | C24: 0 | D24: 15987502 | E24: 15987502 | F24: 0 | G24: 0 | H24: 1243 | I24: 0 | J24: 0 | K24: 0
A25: 12 | B25: ANIANA VARGAS I | C25: 337.74 | F25: 41977 | G25: 85261 | H25: 2520 | I25: 41977 | J25: 82741 | K25: 0.12
B26: ANIANA VARGAS I I | C26: 309.09 | F26: 43284 | H26: 0 | I26: 40764 | K26: 0
A27: 13 | B27: ROSA JULIA DE LA CRUZ | C27: 0 | F27: 0 | G27: 0 | H27: 2275 | I27: 0 | J27: 0 | K27: 0
A28: 14 | B28: PINALITO I | C28: 138.87 | D28: 38988100 | E28: 42362700 | F28: 3374600 | G28: 7102400 | H28: 13394 | I28: 3361206 | J28: 7089006 | K28: 24.3
B29: PINALITO II | C29: 159.22 | D29: 77276100 | E29: 81003900 | F29: 3727800 | H29: 0 | I29: 3727800 | K29: 23.41
F30: 25740884 | G30: 25740884 | H30: 122939 | I30: 25621463 | J30: 25621463 | K30: 77
A31: SECTOR HIDRAULICO NIZAO
A32: 15 | B32: VALDESIA - I | C32: 179.12 | D32: 4129734456 | E32: 4133712911 | F32: 3978455 | G32: 8866955 | H32: 14637 | I32: 3963818 | J32: 8852318 | K32: 22.21
B33: VALDESIA - I I | C33: 223.65 | D33: 889626000 | E33: 894514500 | F33: 4888500 | H33: 0 | I33: 4888500 | K33: 21.86
A34: 16 | B34: JIGUEY - I | C34: 134.59 | D34: 3261325765 | E34: 3267364897 | F34: 6039132 | G34: 10308601 | H34: 0 | I34: 6039132 | J34: 10159161 | K34: 44.87
B35: JIGUEY - I I | C35: 100.21 | D35: 2851525969 | E35: 2855795438 | F35: 4269469 | H35: 149440 | I35: 4120029 | K35: 42.61
A36: 17 | B36: AGUACATE - I | C36: 339.6 | D36: 1080390400 | E36: 1089288704 | F36: 8898304 | G36: 21017984 | H36: 115569 | I36: 8782735 | J36: 20902415 | K36: 26.2
B37: AGUACATE - I I | C37: 467.12 | D37: 1348737152 | E37: 1360856832 | F37: 12119680 | H37: 0 | I37: 12119680 | K37: 25.95
A38: 18 | B38: NIZAO NAJAYO | C38: 0 | F38: 0 | G38: 0 | H38: 226 | I38: 0 | J38: 0 | K38: 0
A39: 19 | B39: LOS ANONES | C39: 0 | F39: 0 | G39: 0 | H39: 588 | I39: 0 | J39: 0 | K39: 0
A40: 20 | B40: LAS BARIAS | C40: 522.47 | D40: 51737797 | E40: 51939289 | F40: 201492 | G40: 201492 | H40: 6159 | I40: 195333 | J40: 195333 | K40: 0.39
...

Sheet Diciembre
A1: No. | B1: CENTRAL | D1: LECTURA GENERACION | G1: TOTAL | H1: CONSUMO | J1: TOTAL | K1: POTENCIA PROMEDIO
C2: HORAS | F2: GENERADO | G2: BRUTO POR | H2: ESTACION | I2: GENERADO | J2: NETO POR
C3: OPERACION | D3: ANTERIOR | E3: PRESENTE | F3: BRUTO / UNIDAD | G3: CENTRAL | H3: TOTAL | I3: NETO / UNIDAD | J3: CENTRAL
F4: (KWH) | G4: (KWH) | H4: (KWH) | I4: (KWH) | J4: (KWH) | K4: (MW)
A5: SECTOR HIDRAULICO NORTE | M5: Total de Horas
A6: 1 | B6: TAVERA - I | C6: 141.43 | D6: 111418747 | E6: 117992117 | F6: 6573370 | G6: 12931565 | H6: 33655 | I6: 6539715 | J6: 12897910 | K6: 46.48 | M6: =SUM(C6:C15) -> 3508.05
B7: TAVERA - I I | C7: 141.1 | D7: 118226064 | E7: 124584259 | F7: 6358195 | H7: 0 | I7: 6358195 | K7: 45.06 | M7: =SUM(C18:C29) -> 3458.24
A8: 2 | B8: ANGOSTURA | C8: 741.22 | D8: 249816300 | E8: 254477000 | F8: 4660700 | G8: 4660700 | H8: 24761 | I8: 4635939 | J8: 4635939 | K8: 6.29 | M8: =SUM(C32:C40) -> 1669.76
A9: 3 | B9: MONCION - I | C9: 279.36 | D9: 180954887 | E9: 187283412 | F9: 6328525 | G9: 12770154 | H9: 58292 | I9: 6270233 | J9: 12711862 | K9: 22.65 | M9: =SUM(C43:C53) -> 5825.88
B10: MONCION - II | C10: 287.17 | D10: 180303330 | E10: 186744959 | F10: 6441629 | H10: 0 | I10: 6441629 | K10: 22.43 | M10: =SUM(M6:M9) -> 14461.93
A11: 4 | B11: C. E. MONCION - I | C11: 739.63 | F11: 601823 | G11: 1203456 | H11: 10770 | I11: 591053 | J11: 1192686 | K11: 0.81
B12: C. E. MONCION - I I | C12: 739.2 | F12: 601633 | I12: 601633 | K12: 0.81
A13: 5 | B13: BAIGUAQUE - I | C13: 238.72 | D13: 3285738 | E13: 3313574 | F13: 27836 | G13: 51436 | H13: 3467 | I13: 24369 | J13: 47969 | K13: 0.12
B14: BAIGUAQUE - I I | C14: 200.22 | D14: 3132964 | E14: 3156564 | F14: 23600 | I14: 23600 | K14: 0.12
A15: 6 | B15: BRAZO DERECHO | C15: 0 | D15: 71541559 | E15: 71541559 | F15: 0 | G15: 0 | H15: 11837 | I15: 0 | J15: 0 | K15: 0 | P15: =SUM(F6:F15) -> 31617311
A16: SUB-TOTAL SECTOR NORTE | F16: 31617311 | G16: 31617311 | H16: 142782 | I16: 31486366 | J16: 31486366 | K16: 145 | P16: =+P15+noviembre!N17+octubre!M16 -> 110488253
A17: SECTOR HIDRAULICO CENTRO
A18: 7 | B18: RINCON | C18: 217.46 | D18: 31930000 | E18: 33660000 | F18: 1730000 | G18: 1730000 | H18: 12096 | I18: 1717904 | J18: 1717904 | K18: 7.96
A19: 8 | B19: HATILLO - I | C19: 739.21 | D19: 1033769600 | E19: 1038430900 | F19: 4661300 | G19: 5027394 | H19: 14497 | I19: 4646803 | J19: 5012897 | K19: 6.31
B20: HATILLO - I I | C20: 78.51 | D20: 0 | E20: 0 | F20: 366094 | H20: 0 | I20: 366094 | K20: 4.66 | L20: 65.95 | M20: 671.05 | N20: =+C20+L20+M20 -> 815.51
A21: 9 | B21: JIMENOA | C21: 666.97 | D21: 877682102 | E21: 880737482 | F21: 3055380 | G21: 3055380 | H21: 5980 | I21: 3049400 | J21: 3049400 | K21: 4.58
A22: 10 | B22: RIO BLANCO - I | C22: 664.45 | D22: 900028000 | E22: 907557000 | F22: 7529000 | G22: 8942500 | H22: 49560 | I22: 7479440 | J22: 8892940 | K22: 11.33
B23: RIO BLANCO - I I | C23: 167.02 | D23: 826746000 | E23: 828159500 | F23: 1413500 | I23: 1413500 | K23: 8.46
A24: 11 | B24: EL SALTO DE CONSTANZA | C24: 0 | D24: 15987502 | E24: 15987502 | F24: 0 | G24: 0 | H24: 1273 | I24: 0 | J24: 0 | K24: 0
A25: 12 | B25: ANIANA VARGAS I | C25: 224.67 | F25: 44584 | G25: 103931 | H25: 2606 | I25: 44584 | J25: 101325 | K25: 0.2
B26: ANIANA VARGAS I I | C26: 448.7 | F26: 59347 | H26: 0 | I26: 56741 | K26: 0.13
A27: 13 | B27: ROSA JULIA DE LA CRUZ | C27: 0 | F27: 0 | G27: 0 | H27: 1941 | I27: 0 | J27: 0 | K27: 0
A28: 14 | B28: PINALITO I | C28: 135.73 | D28: 42362700 | E28: 45619500 | F28: 3256800 | G28: 5873900 | H28: 22338 | I28: 3234462 | J28: 5851562 | K28: 23.99
B29: PINALITO II | C29: 115.52 | D29: 81003900 | E29: 83621000 | F29: 2617100 | H29: 0 | I29: 2617100 | K29: 22.65
F30: 24733105 | G30: 24733105 | H30: 110291 | I30: 24626028 | J30: 24626028 | K30: 90
A31: SECTOR HIDRAULICO NIZAO
A32: 15 | B32: VALDESIA - I | C32: 96.73 | D32: 4133712911 | E32: 4136004621 | F32: 2291710 | G32: 4407810 | H32: 14349 | I32: 2277361 | J32: 4393461 | K32: 23.69
B33: VALDESIA - I I | C33: 95.28 | D33: 894514500 | E33: 896630600 | F33: 2116100 | H33: 0 | I33: 2116100 | K33: 22.21
A34: 16 | B34: JIGUEY - I | C34: 121.78 | D34: 3267364897 | E34: 3272899700 | F34: 5534803 | G34: 11534792 | H34: 0 | I34: 5534803 | J34: 11360532 | K34: 45.45
B35: JIGUEY - I I | C35: 134.3 | D35: 2855795438 | E35: 2861795427 | F35: 5999989 | H35: 174260 | I35: 5825729 | K35: 44.68
A36: 17 | B36: AGUACATE - I | C36: 211.8 | D36: 1089288704 | E36: 1094795008 | F36: 5506304 | G36: 13537152 | H36: 103938 | I36: 5402366 | J36: 13433214 | K36: 26
B37: AGUACATE - I I | C37: 304.67 | D37: 1360856832 | E37: 1368887680 | F37: 8030848 | H37: 0 | I37: 8030848 | K37: 26.36
A38: 18 | B38: NIZAO NAJAYO | C38: 0 | F38: 0 | G38: 0 | H38: 203 | I38: 0 | J38: 0 | K38: 0
A39: 19 | B39: LOS ANONES | C39: 0 | F39: 0 | G39: 0 | H39: 588 | I39: 0 | J39: 0 | K39: 0
A40: 20 | B40: LAS BARIAS | C40: 705.2 | D40: 51939289 | E40: 52270690 | F40: 331401 | G40: 331401 | H40: 7552 | I40: 323849 | J40: 323849 | K40: 0.47
...

Sheet 4to Trimestre Por zona
B1: Sector | C1: No. | D1: Unidades | E1: P.I. (MW) | F1: Horas de Operación | G1: Generado Bruto Por Unidad (KWH) | H1: Generado Bruto por central (KWH) | I1: Consumo Estación (KWH) | J1: Generado Neto por unidad (KWH) | K1: Generado Neto por central (KWH) | L1: Potencia Promedio (MW) | M1: Participación % | N1: porcentaje
B2: SECTOR NORTE | C2: Zona Norte
C3: 1 | D3: Tavera I | E3: 48 | F3: =octubre!C6+noviembre!C6+Diciembre!C6 -> 503.41 | G3: =+octubre!F6+noviembre!F6+Diciembre!F6 -> 23144024 | H3: =+G3+G4 -> 41726853 | I3: =+octubre!H6+noviembre!H6+Diciembre!H6 -> 105210 | J3: =+octubre!I6+noviembre!I6+Diciembre!I6 -> 23038814 | K3: =+J3+J4 -> 41621643 | L3: =IFERROR(+G3/F3/1000,0) -> 45.974502 | M3: =(G3/$G$54)*100 -> 6.0489658 | N3: =L3/E3 -> 0.95780212 | P3: Sector | Q3: GWh | R3: %
D4: Tavera II | E4: 48 | F4: =octubre!C7+noviembre!C7+Diciembre!C7 -> 419.77 | G4: =+octubre!F7+noviembre!F7+Diciembre!F7 -> 18582829 | I4: =+octubre!H7+noviembre!H7+Diciembre!H7 -> 0 | J4: =+octubre!I7+noviembre!I7+Diciembre!I7 -> 18582829 | L4: =IFERROR(+G4/F4/1000,0) -> 44.269074 | M4: =(G4/$G$54)*100 -> 4.8568432 | N4: =L4/E4 -> 0.92227237 | P4: Sector Hid. Norte | Q4: =+G28/10^6 -> 192.48421 | R4: =+M28 -> 50.308036
C5: 2 | D5: Angostura | E5: 18 | F5: =octubre!C8+noviembre!C8+Diciembre!C8 -> 2183.39 | G5: =+octubre!F8+noviembre!F8+Diciembre!F8 -> 14347400 | H5: =+G5 -> 14347400 | I5: =+octubre!H8+noviembre!H8+Diciembre!H8 -> 77404 | J5: =+octubre!I8+noviembre!I8+Diciembre!I8 -> 14269996 | K5: =+J5 -> 14269996 | L5: =IFERROR(+G5/F5/1000,0) -> 6.5711577 | M5: =(G5/$G$54)*100 -> 3.7498635 | N5: =L5/E5 -> 0.36506432 | P5: Sector Hid. Sur | Q5: =+G53/10^6 -> 190.12705 | R5: =+M53 -> 49.691964
C6: 3 | D6: Monción I | E6: 26 | F6: =octubre!C9+noviembre!C9+Diciembre!C9 -> 1111.62 | G6: =+octubre!F9+noviembre!F9+Diciembre!F9 -> 25280526 | H6: =+G6+G7 -> 50165732 | I6: =+octubre!H9+noviembre!H9+Diciembre!H9 -> 210739 | J6: =+octubre!I9+noviembre!I9+Diciembre!I9 -> 25069787 | K6: =+J6+J7 -> 49954993 | L6: =IFERROR(+G6/F6/1000,0) -> 22.742058 | M6: =(G6/$G$54)*100 -> 6.607366 | N6: =L6/E6 -> 0.87469452
D7: Monción II | E7: 26 | F7: =octubre!C10+noviembre!C10+Diciembre!C10 -> 1102.8 | G7: =+octubre!F10+noviembre!F10+Diciembre!F10 -> 24885206 | I7: =+octubre!H10+noviembre!H10+Diciembre!H10 -> 0 | J7: =+octubre!I10+noviembre!I10+Diciembre!I10 -> 24885206 | L7: =IFERROR(+G7/F7/1000,0) -> 22.565475 | M7: =(G7/$G$54)*100 -> 6.5040444 | N7: =L7/E7 -> 0.86790289 | P7: Zona | Q7: GWh | R7: %
C8: 4 | D8: C. E. Monción I | E8: 1.6 | F8: =octubre!C11+noviembre!C11+Diciembre!C11 -> 2192.14 | G8: =+octubre!F11+noviembre!F11+Diciembre!F11 -> 2033912 | H8: =+G8+G9 -> 4063006 | I8: =+octubre!H11+noviembre!H11+Diciembre!H11 -> 33460 | J8: =+octubre!I11+noviembre!I11+Diciembre!I11 -> 2000452 | K8: =+J8+J9 -> 4029546 | L8: =IFERROR(+G8/F8/1000,0) -> 0.9278203 | M8: =(G8/$G$54)*100 -> 0.53158708 | N8: =L8/E8 -> 0.57988769 | P8: Norte | Q8: =+G13/10^6 -> 110.48825 | R8: =+M13 -> 28.877418
D9: C. E. Monción II | E9: 1.6 | F9: =octubre!C12+noviembre!C12+Diciembre!C12 -> 2187.35 | G9: =+octubre!F12+noviembre!F12+Diciembre!F12 -> 2029094 | I9: =+octubre!H12+noviembre!H12+Diciembre!H12 -> 0 | J9: =+octubre!I12+noviembre!I12+Diciembre!I12 -> 2029094 | L9: =IFERROR(+G9/F9/1000,0) -> 0.92764944 | M9: =(G9/$G$54)*100 -> 0.53032783 | N9: =L9/E9 -> 0.5797809 | P9: Centro | Q9: =+G27/10^6 -> 81.995958 | R9: =+M27 -> 21.430618
C10: 5 | D10: Baiguaque I | E10: 0.6 | F10: =octubre!C13+noviembre!C13+Diciembre!C13 -> 773.48 | G10: =+octubre!F13+noviembre!F13+Diciembre!F13 -> 103077 | H10: =+G10+G11 -> 185262 | I10: =+octubre!H13+noviembre!H13+Diciembre!H13 -> 7057 | J10: =+octubre!I13+noviembre!I13+Diciembre!I13 -> 96020 | K10: =+J10+J11 -> 178205 | L10: =IFERROR(+G10/F10/1000,0) -> 0.13326395 | M10: =(G10/$G$54)*100 -> 0.026940399 | N10: =L10/E10 -> 0.22210658 | P10: Nizao | Q10: =+G39/10^6 -> 104.17332 | R10: =+M39 -> 27.226936
D11: Baiguaque II | E11: 0.6 | F11: =octubre!C14+noviembre!C14+Diciembre!C14 -> 687.03 | G11: =+octubre!F14+noviembre!F14+Diciembre!F14 -> 82185 | I11: =+octubre!H14+noviembre!H14+Diciembre!H14 -> 0 | J11: =+octubre!I14+noviembre!I14+Diciembre!I14 -> 82185 | L11: =IFERROR(+G11/F11/1000,0) -> 0.1196236 | M11: =(G11/$G$54)*100 -> 0.021480027 | N11: =L11/E11 -> 0.19937266 | P11: Sur | Q11: =+G52/10^6 -> 85.953724 | R11: =+M52 -> 22.465027
C12: 6 | D12: Brazo Derecho | E12: 2.8 | F12: =octubre!C15+noviembre!C15+Diciembre!C15 -> 0 | G12: =+octubre!F15+noviembre!F15+Diciembre!F15 -> 0 | H12: =+G12 -> 0 | I12: =+octubre!H15+noviembre!H15+Diciembre!H15 -> 35813 | J12: =+octubre!I15+noviembre!I15+Diciembre!I15 -> 0 | K12: =+J12 -> 0 | L12: =IFERROR(+G12/F12/1000,0) -> 0 | M12: =(G12/$G$54)*100 -> 0 | N12: =L12/E12 -> 0
C13: Sub-Total | E13: =SUM(E3:E12) -> 173.2 | F13: =SUM(F3:F12) -> 11160.99 | G13: =SUM(G3:G12) -> 110488253 | H13: =SUM(H3:H12) -> 110488253 | I13: =SUM(I3:I12) -> 469683 | J13: =SUM(J3:J12) -> 110054383 | K13: =SUM(K3:K12) -> 110054383 | L13: =SUM(L3:L12) -> 144.23062 | M13: =(G13/$G$54)*100 -> 28.877418 | N13: =L13/E13 -> 0.83274032 | P13: Norte | Q13: =+H13/10^6 -> 110.48825 | R13: =+M13 -> 28.877418
C14: Zona Centro | P14: Tavera | Q14: =+K3/10^6 -> 41.621643 | R14: =+M3+M4 -> 10.905809
C15: 7 | D15: Rincón | E15: 10.1 | F15: =+octubre!C18+noviembre!C18+Diciembre!C18 -> 497.64 | G15: =+octubre!F18+noviembre!F18+Diciembre!F18 -> 4180000 | H15: =+G15 -> 4180000 | I15: =+octubre!H18+noviembre!H18+Diciembre!H18 -> 35936 | J15: =+octubre!I18+noviembre!I18+Diciembre!I18 -> 4144064 | K15: =+J15 -> 4144064 | L15: =IFERROR(+G15/F15/1000,0) -> 8.3996463 | M15: =(G15/$G$54)*100 -> 1.0924927 | N15: =L15/E15 -> 0.83164815 | P15: Monción | Q15: =+K6/10^6 -> 49.954993 | R15: =+M6+M7 -> 13.11141
C16: 8 | D16: Hatillo I | E16: 8 | F16: =+octubre!C19+noviembre!C19+Diciembre!C19 -> 1594.11 | G16: =+octubre!F19+noviembre!F19+Diciembre!F19 -> 10284200 | H16: =+G16+G17 -> 13523847 | I16: =+octubre!H19+noviembre!H19+Diciembre!H19 -> 64033 | J16: =+octubre!I19+noviembre!I19+Diciembre!I19 -> 10220167 | K16: =+J16+J17 -> 13459814 | L16: =IFERROR(+G16/F16/1000,0) -> 6.4513741 | M16: =(G16/$G$54)*100 -> 2.6878979 | N16: =L16/E16 -> 0.80642177 | P16: Centro | Q16: =+H27/10^6 -> 81.995958 | R16: =+M27 -> 21.430618
D17: Hatillo II | E17: 10.76 | F17: =+octubre!C20+noviembre!C20+Diciembre!C20 -> 863.02 | G17: =+octubre!F20+noviembre!F20+Diciembre!F20 -> 3239647 | I17: =+octubre!H20+noviembre!H20+Diciembre!H20 -> 0 | J17: =+octubre!I20+noviembre!I20+Diciembre!I20 -> 3239647 | L17: =IFERROR(+G17/F17/1000,0) -> 3.7538493 | M17: =(G17/$G$54)*100 -> 0.84672025 | N17: =L17/E17 -> 0.34887075
C18: 9 | D18: Jimenoa | E18: 8.4 | F18: =+octubre!C21+noviembre!C21+Diciembre!C21 -> 2048.87 | G18: =+octubre!F21+noviembre!F21+Diciembre!F21 -> 11199209 | H18: =+G18 -> 11199209 | I18: =+octubre!H21+noviembre!H21+Diciembre!H21 -> 19293 | J18: =+octubre!I21+noviembre!I21+Diciembre!I21 -> 11179916 | K18: =+J18 -> 11179916 | L18: =IFERROR(+G18/F18/1000,0) -> 5.4660418 | M18: =(G18/$G$54)*100 -> 2.9270464 | N18: =L18/E18 -> 0.65071926 | P18: Pinalito | Q18: =+K25/10^6 -> 25.003949 | R18: =+M25+M26 -> 6.5620129
C19: =+C18+1 -> 10 | D19: Rio Blanco I | E19: 12.5 | F19: =+octubre!C22+noviembre!C22+Diciembre!C22 -> 712.45 | G19: =+octubre!F22+noviembre!F22+Diciembre!F22 -> 16214000 | H19: =+G19+G20 -> 27720000 | I19: =+octubre!H22+noviembre!H22+Diciembre!H22 -> 161885 | J19: =+octubre!I22+noviembre!I22+Diciembre!I22 -> 16052115 | K19: =+J19+J20 -> 27558115 | L19: =IFERROR(+G19/F19/1000,0) -> 22.758088 | M19: =(G19/$G$54)*100 -> 4.2377216 | N19: =L19/E19 -> 1.8206471 | P19: Rio Blanco | Q19: =+K19/10^6 -> 27.558115 | R19: 7.63
D20: Rio Blanco II | E20: 12.5 | F20: =+octubre!C23+noviembre!C23+Diciembre!C23 -> 1222.95 | G20: =+octubre!F23+noviembre!F23+Diciembre!F23 -> 11506000 | I20: =+octubre!H23+noviembre!H23+Diciembre!H23 -> 0 | J20: =+octubre!I23+noviembre!I23+Diciembre!I23 -> 11506000 | L20: =IFERROR(+G20/F20/1000,0) -> 9.4083977 | M20: =(G20/$G$54)*100 -> 3.0072299 | N20: =L20/E20 -> 0.75267182 | P20: Nizao | Q20: =+H39/10^6 -> 104.17332 | R20: =+M39 -> 27.226936
C21: 11 | D21: El Salto | E21: 0.62 | F21: =+octubre!C24+noviembre!C24+Diciembre!C24 -> 0 | G21: =+octubre!F24+noviembre!F24+Diciembre!F24 -> 0 | H21: =+G21 -> 0 | I21: =+octubre!H24+noviembre!H24+Diciembre!H24 -> 3747 | J21: =+octubre!I24+noviembre!I24+Diciembre!I24 -> 0 | K21: =+J21 -> 0 | L21: =IFERROR(+G21/F21/1000,0) -> 0 | M21: =(G21/$G$54)*100 -> 0 | N21: =L21/E21 -> 0 | P21: Jigüey | Q21: =+K32/10^6 -> 30.789332 | R21: =+M32+M33 -> 8.1709624
C22: 12 | D22: Aniana Vargas I | E22: 0.35 | F22: =+octubre!C25+noviembre!C25+Diciembre!C25 -> 1070.24 | G22: =+octubre!F25+noviembre!F25+Diciembre!F25 -> 147379 | H22: =+G22+G23 -> 265902 | I22: =+octubre!H25+noviembre!H25+Diciembre!H25 -> 7846 | J22: =+octubre!I25+noviembre!I25+Diciembre!I25 -> 147379 | K22: =+J22+J23 -> 258056 | L22: =IFERROR(+G22/F22/1000,0) -> 0.1377065 | M22: =(G22/$G$54)*100 -> 0.038519253 | N22: =L22/E22 -> 0.39344713 | P22: Aguacate | Q22: =+K34/10^6 -> 53.00968 | R22: =+M34+M35 -> 13.940834
D23: Aniana Vargas II | E23: 0.35 | F23: =+octubre!C26+noviembre!C26+Diciembre!C26 -> 941.55 | G23: =+octubre!F26+noviembre!F26+Diciembre!F26 -> 118523 | I23: =+octubre!H26+noviembre!H26+Diciembre!H26 -> 0 | J23: =+octubre!I26+noviembre!I26+Diciembre!I26 -> 110677 | L23: =IFERROR(+G23/F23/1000,0) -> 0.12588073 | M23: =(G23/$G$54)*100 -> 0.030977395 | N23: =L23/E23 -> 0.35965922 | P23: Sur | Q23: =+H52/10^6 -> 85.953724 | R23: =+M52 -> 22.465027
C24: 13 | D24: Rosa J. De la Cruz | E24: 0.9 | F24: =+octubre!C27+noviembre!C27+Diciembre!C27 -> 0 | G24: =+octubre!F27+noviembre!F27+Diciembre!F27 -> 0 | H24: =+G24 -> 0 | I24: =+octubre!H27+noviembre!H27+Diciembre!H27 -> 6659 | J24: =+octubre!I27+noviembre!I27+Diciembre!I27 -> 0 | K24: =+J24 -> 0 | L24: =IFERROR(+G24/F24/1000,0) -> 0 | M24: =(G24/$G$54)*100 -> 0 | N24: =L24/E24 -> 0 | P24: Palomino | Q24: =+K50/10^6 -> 41.321476 | R24: =+M51+M50 -> 10.884386
C25: 14 | D25: Pinalito I | E25: 25 | F25: =+octubre!C28+noviembre!C28+Diciembre!C28 -> 550.05 | G25: =+octubre!F28+noviembre!F28+Diciembre!F28 -> 13202100 | H25: =+G25+G26 -> 25107000 | I25: =+octubre!H28+noviembre!H28+Diciembre!H28 -> 103051 | J25: =+octubre!I28+noviembre!I28+Diciembre!I28 -> 13099049 | K25: =+J25+J26 -> 25003949 | L25: =IFERROR(+G25/F25/1000,0) -> 24.001636 | M25: =(G25/$G$54)*100 -> 3.4505258 | N25: =L25/E25 -> 0.96006545 | P25: Sabana Yegua | Q25: =+K41/10^6 -> 15.587658 | R25: =+M41 -> 4.084333
C26: =+C25+1 -> 15 | D26: Pinalito II | E26: 25 | F26: =+octubre!C29+noviembre!C29+Diciembre!C29 -> 516.91 | G26: =+octubre!F29+noviembre!F29+Diciembre!F29 -> 11904900 | I26: =+octubre!H29+noviembre!H29+Diciembre!H29 -> 0 | J26: =+octubre!I29+noviembre!I29+Diciembre!I29 -> 11904900 | L26: =IFERROR(+G26/F26/1000,0) -> 23.030895 | M26: =(G26/$G$54)*100 -> 3.1114871 | N26: =L26/E26 -> 0.92123581
C27: Sub-Total | E27: =SUM(E15:E26) -> 114.48 | F27: =SUM(F15:F26) -> 10017.79 | G27: =SUM(G15:G26) -> 81995958 | H27: =SUM(H15:H26) -> 81995958 | I27: =SUM(I15:I26) -> 402450 | J27: =SUM(J15:J26) -> 81603914 | K27: =SUM(K15:K26) -> 81603914 | L27: =SUM(L15:L26) -> 103.53352 | M27: =(G27/$G$54)*100 -> 21.430618 | N27: =L27/E27 -> 0.90438082
C28: Total Sector | E28: =+E13+E27 -> 287.68 | F28: =+F13+F27 -> 21178.78 | G28: =+G13+G27 -> 192484211 | H28: =+H13+H27 -> 192484211 | I28: =+I13+I27 -> 872133 | J28: =+J13+J27 -> 191658297 | K28: =+K13+K27 -> 191658297 | L28: =+L13+L27 -> 247.76414 | M28: =(G28/$G$54)*100 -> 50.308036 | N28: =L28/E28 -> 0.86124909
B29: SECTOR SUR | C29: Zona Nizao
C30: 15 | D30: Valdesia I | E30: 27 | F30: =+octubre!C32+noviembre!C32+Diciembre!C32 -> 437.37 | G30: =+octubre!F32+noviembre!F32+Diciembre!F32 -> 9888941 | H30: =+G30+G31 -> 19034341 | I30: =+octubre!H32+noviembre!H32+Diciembre!H32 -> 44458 | J30: =+octubre!I32+noviembre!I32+Diciembre!I32 -> 9844483 | K30: =+J30+J31 -> 18989883 | L30: =IFERROR(+G30/F30/1000,0) -> 22.610012 | M30: =(G30/$G$54)*100 -> 2.5845923 | N30: =L30/E30 -> 0.83740786
D31: Valdesia II | E31: 27 | F31: =+octubre!C33+noviembre!C33+Diciembre!C33 -> 399.72 | G31: =+octubre!F33+noviembre!F33+Diciembre!F33 -> 9145400 | I31: =+octubre!H33+noviembre!H33+Diciembre!H33 -> 0 | J31: =+octubre!I33+noviembre!I33+Diciembre!I33 -> 9145400 | L31: =IFERROR(+G31/F31/1000,0) -> 22.879516 | M31: =(G31/$G$54)*100 -> 2.390259 | N31: =L31/E31 -> 0.84738947
C32: 16 | D32: Jigüey I | E32: 49 | F32: =+octubre!C34+noviembre!C34+Diciembre!C34 -> 399.47 | G32: =+octubre!F34+noviembre!F34+Diciembre!F34 -> 16733127 | H32: =+G32+G33 -> 31263022 | I32: =+octubre!H34+noviembre!H34+Diciembre!H34 -> 0 | J32: =+octubre!I34+noviembre!I34+Diciembre!I34 -> 16733127 | K32: =+J32+J33 -> 30789332 | L32: =IFERROR(+G32/F32/1000,0) -> 41.88832 | M32: =(G32/$G$54)*100 -> 4.3734016 | N32: =L32/E32 -> 0.85486366
D33: Jigüey II | E33: 49 | F33: =+octubre!C35+noviembre!C35+Diciembre!C35 -> 352.28 | G33: =+octubre!F35+noviembre!F35+Diciembre!F35 -> 14529895 | I33: =+octubre!H35+noviembre!H35+Diciembre!H35 -> 473690 | J33: =+octubre!I35+noviembre!I35+Diciembre!I35 -> 14056205 | L33: =IFERROR(+G33/F33/1000,0) -> 41.245302 | M33: =(G33/$G$54)*100 -> 3.7975608 | N33: =L33/E33 -> 0.84174086
C34: 17 | D34: Aguacate I | E34: 30 | F34: =+octubre!C36+noviembre!C36+Diciembre!C36 -> 900.49 | G34: =+octubre!F36+noviembre!F36+Diciembre!F36 -> 23211200 | H34: =+G34+G35 -> 53339200 | I34: =+octubre!H36+noviembre!H36+Diciembre!H36 -> 329520 | J34: =+octubre!I36+noviembre!I36+Diciembre!I36 -> 22881680 | K34: =+J34+J35 -> 53009680 | L34: =IFERROR(+G34/F34/1000,0) -> 25.776189 | M34: =(G34/$G$54)*100 -> 6.066523 | N34: =L34/E34 -> 0.85920628
D35: Aguacate II | E35: 30 | F35: =+octubre!C37+noviembre!C37+Diciembre!C37 -> 1169.92 | G35: =+octubre!F37+noviembre!F37+Diciembre!F37 -> 30128000 | I35: =+octubre!H37+noviembre!H37+Diciembre!H37 -> 0 | J35: =+octubre!I37+noviembre!I37+Diciembre!I37 -> 30128000 | L35: =IFERROR(+G35/F35/1000,0) -> 25.752188 | M35: =(G35/$G$54)*100 -> 7.8743109 | N35: =L35/E35 -> 0.85840627
C36: 18 | D36: Nizao Najayo | E36: 0.33 | F36: =+octubre!C38+noviembre!C38+Diciembre!C38 -> 0 | G36: =+octubre!F38+noviembre!F38+Diciembre!F38 -> 0 | H36: =+G36 -> 0 | I36: =+octubre!H38+noviembre!H38+Diciembre!H38 -> 652 | J36: =+octubre!I38+noviembre!I38+Diciembre!I38 -> 0 | K36: =+J36 -> 0 | L36: =IFERROR(+G36/F36/1000,0) -> 0 | M36: =(G36/$G$54)*100 -> 0 | N36: =L36/E36 -> 0
C37: 19 | D37: Los Anones | E37: 0.11 | F37: =+octubre!C39+noviembre!C39+Diciembre!C39 -> 0 | G37: =+octubre!F39+noviembre!F39+Diciembre!F39 -> 0 | H37: =+G37 -> 0 | I37: =+octubre!H39+noviembre!H39+Diciembre!H39 -> 1734 | J37: =+octubre!I39+noviembre!I39+Diciembre!I39 -> 0 | K37: =+J37 -> 0 | L37: =IFERROR(+G37/F37/1000,0) -> 0 | M37: =(G37/$G$54)*100 -> 0 | N37: =L37/E37 -> 0
C38: 20 | D38: Las Barías | E38: 0.85 | F38: =+octubre!C40+noviembre!C40+Diciembre!C40 -> 1238.65 | G38: =+octubre!F40+noviembre!F40+Diciembre!F40 -> 536760 | H38: =+G38 -> 536760 | I38: =+octubre!H40+noviembre!H40+Diciembre!H40 -> 16896 | J38: =+octubre!I40+noviembre!I40+Diciembre!I40 -> 519864 | K38: =+J38 -> 519864 | L38: =IFERROR(+G38/F38/1000,0) -> 0.43334275 | M38: =(G38/$G$54)*100 -> 0.14028861 | N38: =L38/E38 -> 0.509815
C39: Sub-Total | E39: =SUM(E30:E38) -> 213.29 | F39: =SUM(F30:F38) -> 4897.9 | G39: =SUM(G30:G38) -> 104173323 | H39: =SUM(H30:H38) -> 104173323 | I39: =SUM(I30:I38) -> 866950 | J39: =SUM(J30:J38) -> 103308759 | K39: =SUM(K30:K38) -> 103308759 | L39: =SUM(L30:L38) -> 180.58487 | M39: =(G39/$G$54)*100 -> 27.226936 | N39: =L39/E39 -> 0.84666355
C40: Zona Sur
...
